BEGIN:VCALENDAR
VERSION:2.0
PRODID:-//hacksw/handcal//NONSGML v1.0//EN
BEGIN:VEVENT
SUMMARY:Sortie restaurant: le Bois de la Biche a Charquemont
UID:e1685b10-eab9-42ca-81cb-c4b65e7f0b74
DTSTART:20260621T100000Z
DTEND:20260621T130000Z
LOCATION:Localisation   
CATEGORIES:Sportif
STATUS:
URL;VALUE=URI:https://randonneurs-arbouans.sportsregions.fr/evenements/2026/06/21/sortie-restaurant-le-bois-de-la-biche-a-charquemont-2439223
END:VEVENT
END:VCALENDAR
